BEGIN:VCALENDAR
VERSION:2.0
PRODID:-//eventon.com NONSGML v1.0//EN
CALSCALE:GREGORIAN
METHOD:PUBLISH
BEGIN:VEVENT
UID:69e5078724211
DTSTAMP:20260419T164911Z
DTSTART:20260527T160000Z
DTEND:20260527T170000Z
LOCATION:Longwood Library
SUMMARY:When to Use Urgent Care vs the Emergency Room
DESCRIPTION:\nhttps://www.matherhospital.org/events/when-to-use-urgent-care
 -vs-the-emergency-room/
URL:https://www.matherhospital.org/events/when-to-use-urgent-care-vs-the-emergency-room/
END:VEVENT
END:VCALENDAR