BEGIN:VCALENDAR
VERSION:2.0
PRODID:-//eventon.com NONSGML v1.0//EN
CALSCALE:GREGORIAN
METHOD:PUBLISH
BEGIN:VEVENT
UID:69e500eac9cee
DTSTAMP:20260419T162058Z
DTSTART:20260424T170000Z
DTEND:20260424T180000Z
LOCATION:Patchogue-Medford Library 54-60\,  E Main Street
SUMMARY:Understanding diabetes seminar
DESCRIPTION:\nhttps://www.matherhospital.org/events/understanding-diabetes-
 seminar/
URL:https://www.matherhospital.org/events/understanding-diabetes-seminar/
END:VEVENT
END:VCALENDAR