BEGIN:VCALENDAR
VERSION:2.0
PRODID:-//eventon.com NONSGML v1.0//EN
CALSCALE:GREGORIAN
METHOD:PUBLISH
BEGIN:VEVENT
UID:69e50411ee8e4
DTSTAMP:20260419T163425Z
DTSTART:20260419T180000Z
DTEND:20260419T190000Z
LOCATION:First Presbyterian Church Main and South Street
SUMMARY:Understanding Menopause seminar
DESCRIPTION:\nhttps://www.matherhospital.org/events/understanding-menopause
 -seminar/
URL:https://www.matherhospital.org/events/understanding-menopause-seminar/
END:VEVENT
END:VCALENDAR