BEGIN:VCALENDAR
VERSION:2.0
PRODID:-//eventon.com NONSGML v1.0//EN
CALSCALE:GREGORIAN
METHOD:PUBLISH
BEGIN:VEVENT
UID:69e4eff9b0556
DTSTAMP:20260419T150841Z
DTSTART:20260627T120000Z
DTEND:20260627T150000Z
LOCATION:Hilton Garden Inn - Stonybrook
SUMMARY:Orthopedics: Knee & Hip Replacement seminar
DESCRIPTION:Knee &amp; Hip Replacement: Expert Insights at Hilton Garden In
 n &#8211; Stonybrook Date: June 27 | Time: 8 AM Explore your options for j
 oint pain relief at this special seminar. Orthopedic surgeons Dr. Michael F
 racchia and Dr. Filippo Romanelli will present on advancements in knee and 
 hip replacement. This is your[..]\nhttps://www.matherhospital.org/events/or
 thopedics-knee-hip-replacement-seminar-2/
URL:https://www.matherhospital.org/events/orthopedics-knee-hip-replacement-seminar-2/
END:VEVENT
END:VCALENDAR