BEGIN:VCALENDAR
VERSION:2.0
PRODID:-//eventon.com NONSGML v1.0//EN
CALSCALE:GREGORIAN
METHOD:PUBLISH
BEGIN:VEVENT
UID:69e504fb997f2
DTSTAMP:20260419T163819Z
DTSTART:20260602T160000Z
DTEND:20260602T170000Z
LOCATION:https://northwell.zoom.us/webinar/register/WN_2OAj-05ERYmhjwDKgkJSRA
SUMMARY:HealthyU webinar - Medical Weight Management
DESCRIPTION:\nhttps://www.matherhospital.org/events/healthyu-webinar-medica
 l-weight-management-2/
URL:https://www.matherhospital.org/events/healthyu-webinar-medical-weight-management-2/
END:VEVENT
END:VCALENDAR