BEGIN:VCALENDAR
VERSION:2.0
PRODID:-//eventon.com NONSGML v1.0//EN
CALSCALE:GREGORIAN
METHOD:PUBLISH
BEGIN:VEVENT
UID:69e4eddb5aeef
DTSTAMP:20260419T145939Z
DTSTART:20260526T160000Z
DTEND:20260526T170000Z
LOCATION:https://northwell.zoom.us/webinar/register/WN_2OAj-05ERYmhjwDKgkJSRA
SUMMARY:Understanding later life anxiety & depression
DESCRIPTION:Explore the complexities of anxiety and depression in later lif
 e. This webinar will cover common signs\,  unique challenges\,  and effecti
 ve strategies for coping and finding support\,  for both individuals and th
 eir caregivers.\nhttps://www.matherhospital.org/events/healthyu-understandi
 ng-later-life-anxiety-depression/
URL:https://www.matherhospital.org/events/healthyu-understanding-later-life-anxiety-depression/
END:VEVENT
END:VCALENDAR