BEGIN:VCALENDAR
VERSION:2.0
PRODID:-//eventon.com NONSGML v1.0//EN
CALSCALE:GREGORIAN
METHOD:PUBLISH
BEGIN:VEVENT
UID:69e506d4c2ea2
DTSTAMP:20260419T164612Z
DTSTART:20260519T160000Z
DTEND:20260519T170000Z
LOCATION:https://northwell.zoom.us/webinar/register/WN_2OAj-05ERYmhjwDKgkJSRA
SUMMARY:HealthyU - Coping with stress and anxiety
DESCRIPTION:Feeling overwhelmed by stress and anxiety? Join our webinar to 
 learn practical strategies and effective coping mechanisms to regain contro
 l\,  find calm\,  and build lasting resilience in your daily life.\nhttps:/
 /www.matherhospital.org/events/healthyu-coping-with-stress-and-anxiety/
URL:https://www.matherhospital.org/events/healthyu-coping-with-stress-and-anxiety/
END:VEVENT
END:VCALENDAR