BEGIN:VCALENDAR
VERSION:2.0
PRODID:-//eventon.com NONSGML v1.0//EN
CALSCALE:GREGORIAN
METHOD:PUBLISH
BEGIN:VEVENT
UID:69e509dcae55b
DTSTAMP:20260419T165908Z
DTSTART:20260429T230000Z
DTEND:20260430T000000Z
LOCATION:https://northwell.zoom.us/webinar/register/WN_2OAj-05ERYmhjwDKgkJSRA
SUMMARY:Orthopedics: Ankle Joint Replacement webinar
DESCRIPTION:\nhttps://www.matherhospital.org/events/orthopedics-ankle-joint
 -replacement-webinar/
URL:https://www.matherhospital.org/events/orthopedics-ankle-joint-replacement-webinar/
END:VEVENT
END:VCALENDAR